BEGIN:VCALENDAR
VERSION:2.0
PRODID:-//A Girl Friday - BAS Agent - ECPv6.15.16//NONSGML v1.0//EN
CALSCALE:GREGORIAN
METHOD:PUBLISH
X-WR-CALNAME:A Girl Friday - BAS Agent
X-ORIGINAL-URL:https://agirlfriday.com.au
X-WR-CALDESC:Events for A Girl Friday - BAS Agent
REFRESH-INTERVAL;VALUE=DURATION:PT1H
X-Robots-Tag:noindex
X-PUBLISHED-TTL:PT1H
BEGIN:VTIMEZONE
TZID:UTC
BEGIN:STANDARD
TZOFFSETFROM:+0000
TZOFFSETTO:+0000
TZNAME:UTC
DTSTART:20200101T000000
END:STANDARD
END:VTIMEZONE
BEGIN:VEVENT
DTSTART;VALUE=DATE:20210222
DTEND;VALUE=DATE:20210223
DTSTAMP:20260425T142357
CREATED:20210127T035534Z
LAST-MODIFIED:20210127T035649Z
UID:1385-1613952000-1614038399@agirlfriday.com.au
SUMMARY:Jan 2021 Monthly BAS due (if self submitting)
DESCRIPTION:monthly BAS due (if self submitting)
URL:https://agirlfriday.com.au/event/monthly-bas-due-if-self-submitting/
END:VEVENT
END:VCALENDAR