BEGIN:VCALENDAR
VERSION:2.0
PRODID:-//A Girl Friday - BAS Agent - ECPv6.15.16//NONSGML v1.0//EN
CALSCALE:GREGORIAN
METHOD:PUBLISH
X-WR-CALNAME:A Girl Friday - BAS Agent
X-ORIGINAL-URL:https://agirlfriday.com.au
X-WR-CALDESC:Events for A Girl Friday - BAS Agent
REFRESH-INTERVAL;VALUE=DURATION:PT1H
X-Robots-Tag:noindex
X-PUBLISHED-TTL:PT1H
BEGIN:VTIMEZONE
TZID:UTC
BEGIN:STANDARD
TZOFFSETFROM:+0000
TZOFFSETTO:+0000
TZNAME:UTC
DTSTART:20180101T000000
END:STANDARD
END:VTIMEZONE
BEGIN:VTIMEZONE
TZID:Australia/Melbourne
BEGIN:STANDARD
TZOFFSETFROM:+1100
TZOFFSETTO:+1000
TZNAME:AEST
DTSTART:20170401T160000
END:STANDARD
BEGIN:DAYLIGHT
TZOFFSETFROM:+1000
TZOFFSETTO:+1100
TZNAME:AEDT
DTSTART:20170930T160000
END:DAYLIGHT
BEGIN:STANDARD
TZOFFSETFROM:+1100
TZOFFSETTO:+1000
TZNAME:AEST
DTSTART:20180331T160000
END:STANDARD
BEGIN:DAYLIGHT
TZOFFSETFROM:+1000
TZOFFSETTO:+1100
TZNAME:AEDT
DTSTART:20181006T160000
END:DAYLIGHT
BEGIN:STANDARD
TZOFFSETFROM:+1100
TZOFFSETTO:+1000
TZNAME:AEST
DTSTART:20190406T160000
END:STANDARD
BEGIN:DAYLIGHT
TZOFFSETFROM:+1000
TZOFFSETTO:+1100
TZNAME:AEDT
DTSTART:20191005T160000
END:DAYLIGHT
BEGIN:STANDARD
TZOFFSETFROM:+1100
TZOFFSETTO:+1000
TZNAME:AEST
DTSTART:20200404T160000
END:STANDARD
BEGIN:DAYLIGHT
TZOFFSETFROM:+1000
TZOFFSETTO:+1100
TZNAME:AEDT
DTSTART:20201003T160000
END:DAYLIGHT
END:VTIMEZONE
BEGIN:VTIMEZONE
TZID:UTC
BEGIN:STANDARD
TZOFFSETFROM:+0000
TZOFFSETTO:+0000
TZNAME:UTC
DTSTART:20180101T000000
END:STANDARD
END:VTIMEZONE
BEGIN:VEVENT
DTSTART;VALUE=DATE:20191028
DTEND;VALUE=DATE:20191029
DTSTAMP:20260425T122630
CREATED:20190522T064133Z
LAST-MODIFIED:20190522T064133Z
UID:849-1572220800-1572307199@agirlfriday.com.au
SUMMARY:Lodge and pay Quarter 1\, 2019-2020 BAS
DESCRIPTION:
URL:https://agirlfriday.com.au/event/lodge-and-pay-quarter-1-2019-2020-bas/
END:VEVENT
BEGIN:VEVENT
DTSTART;VALUE=DATE:20190825
DTEND;VALUE=DATE:20190826
DTSTAMP:20260425T122630
CREATED:20190522T063621Z
LAST-MODIFIED:20190522T063735Z
UID:843-1566691200-1566777599@agirlfriday.com.au
SUMMARY:Lodge and pay Quarter 3\, 2018-2019 BAS (BAS Agent concession date)
DESCRIPTION:
URL:https://agirlfriday.com.au/event/lodge-and-pay-june-2018-monthly-bas-bas-agent-concession-date/
END:VEVENT
BEGIN:VEVENT
DTSTART;VALUE=DATE:20190728
DTEND;VALUE=DATE:20190729
DTSTAMP:20260425T122630
CREATED:20190522T063841Z
LAST-MODIFIED:20190522T064030Z
UID:847-1564272000-1564358399@agirlfriday.com.au
SUMMARY:Lodge and pay Quarter 4\, 2018-2019 BAS
DESCRIPTION:
URL:https://agirlfriday.com.au/event/lodge-and-pay-quarter-4-2018-2019-bas/
END:VEVENT
BEGIN:VEVENT
DTSTART;VALUE=DATE:20190721
DTEND;VALUE=DATE:20190722
DTSTAMP:20260425T122630
CREATED:20190522T063456Z
LAST-MODIFIED:20190522T063456Z
UID:841-1563667200-1563753599@agirlfriday.com.au
SUMMARY:Lodge and pay June 2018 monthly BAS
DESCRIPTION:
URL:https://agirlfriday.com.au/event/lodge-and-pay-june-2018-monthly-bas/
END:VEVENT
BEGIN:VEVENT
DTSTART;VALUE=DATE:20190630
DTEND;VALUE=DATE:20190701
DTSTAMP:20260425T122630
CREATED:20190522T063142Z
LAST-MODIFIED:20190522T063142Z
UID:839-1561852800-1561939199@agirlfriday.com.au
SUMMARY:End of Financial Year 2018 - 2019
DESCRIPTION:
URL:https://agirlfriday.com.au/event/end-of-financial-year-2018-2019/
END:VEVENT
BEGIN:VEVENT
DTSTART;VALUE=DATE:20190630
DTEND;VALUE=DATE:20190701
DTSTAMP:20260425T122630
CREATED:20190522T063052Z
LAST-MODIFIED:20190522T063052Z
UID:837-1561852800-1561939199@agirlfriday.com.au
SUMMARY:Super Guarantee contributions must be paid by today to qualify for a tax deduction in the 2018–19 financial year.
DESCRIPTION:
URL:https://agirlfriday.com.au/event/super-guarantee-contributions-must-be-paid-by-today-to-qualify-for-a-tax-deduction-in-the-2018-19-financial-year/
END:VEVENT
BEGIN:VEVENT
DTSTART;VALUE=DATE:20190625
DTEND;VALUE=DATE:20190626
DTSTAMP:20260425T122630
CREATED:20190522T062946Z
LAST-MODIFIED:20190522T062946Z
UID:835-1561420800-1561507199@agirlfriday.com.au
SUMMARY:Lodge 2019 FBT annual return for tax agents if lodging electronically
DESCRIPTION:
URL:https://agirlfriday.com.au/event/lodge-2019-fbt-annual-return-for-tax-agents-if-lodging-electronically/
END:VEVENT
BEGIN:VEVENT
DTSTART;VALUE=DATE:20190621
DTEND;VALUE=DATE:20190622
DTSTAMP:20260425T122630
CREATED:20190522T062831Z
LAST-MODIFIED:20190522T062831Z
UID:833-1561075200-1561161599@agirlfriday.com.au
SUMMARY:Lodge and pay May 2019 monthly BAS
DESCRIPTION:
URL:https://agirlfriday.com.au/event/lodge-and-pay-may-2019-monthly-bas/
END:VEVENT
BEGIN:VEVENT
DTSTART;VALUE=DATE:20190528
DTEND;VALUE=DATE:20190529
DTSTAMP:20260425T122630
CREATED:20190522T062704Z
LAST-MODIFIED:20190522T062704Z
UID:831-1559001600-1559087999@agirlfriday.com.au
SUMMARY:Lodge and pay quarter 3\, 2018–19 activity statement if lodging by PAPER
DESCRIPTION:
URL:https://agirlfriday.com.au/event/lodge-and-pay-quarter-3-2018-19-activity-statement-if-lodging-by-paper/
END:VEVENT
BEGIN:VEVENT
DTSTART;VALUE=DATE:20190528
DTEND;VALUE=DATE:20190529
DTSTAMP:20260425T122630
CREATED:20190522T062610Z
LAST-MODIFIED:20190522T062610Z
UID:829-1559001600-1559087999@agirlfriday.com.au
SUMMARY:Super guarantee contributions for quarter 3\, 2018–19 due
DESCRIPTION:
URL:https://agirlfriday.com.au/event/super-guarantee-contributions-for-quarter-3-2018-19-due/
END:VEVENT
BEGIN:VEVENT
DTSTART;VALUE=DATE:20190521
DTEND;VALUE=DATE:20190522
DTSTAMP:20260425T122630
CREATED:20190522T062501Z
LAST-MODIFIED:20190522T062501Z
UID:827-1558396800-1558483199@agirlfriday.com.au
SUMMARY:Lodge and pay March 2019 monthly BAS
DESCRIPTION:
URL:https://agirlfriday.com.au/event/lodge-and-pay-march-2019-monthly-bas/
END:VEVENT
BEGIN:VEVENT
DTSTART;VALUE=DATE:20190228
DTEND;VALUE=DATE:20190301
DTSTAMP:20260425T122630
CREATED:20180305T110543Z
LAST-MODIFIED:20180305T110543Z
UID:733-1551312000-1551398399@agirlfriday.com.au
SUMMARY:BAS Due - Quarter 2 (October - December)
DESCRIPTION:
URL:https://agirlfriday.com.au/event/bas-due-quarter-2-october-december/
END:VEVENT
BEGIN:VEVENT
DTSTART;VALUE=DATE:20190221
DTEND;VALUE=DATE:20190222
DTSTAMP:20260425T122630
CREATED:20180305T113305Z
LAST-MODIFIED:20180305T113305Z
UID:763-1550707200-1550793599@agirlfriday.com.au
SUMMARY:Lodge and pay January monthly activity statement
DESCRIPTION:
URL:https://agirlfriday.com.au/event/lodge-and-pay-january-monthly-activity-statement/
END:VEVENT
BEGIN:VEVENT
DTSTART;VALUE=DATE:20190128
DTEND;VALUE=DATE:20190129
DTSTAMP:20260425T122630
CREATED:20180305T111721Z
LAST-MODIFIED:20180305T111721Z
UID:743-1548633600-1548719999@agirlfriday.com.au
SUMMARY:Superannuation Due 1 October - 31 December
DESCRIPTION:
URL:https://agirlfriday.com.au/event/superannuation-due-1-october-31-december/
END:VEVENT
BEGIN:VEVENT
DTSTART;VALUE=DATE:20181221
DTEND;VALUE=DATE:20181222
DTSTAMP:20260425T122630
CREATED:20180305T113107Z
LAST-MODIFIED:20180305T113210Z
UID:761-1545350400-1545436799@agirlfriday.com.au
SUMMARY:Lodge and pay November monthly activity statement
DESCRIPTION:
URL:https://agirlfriday.com.au/event/lodge-and-pay-november-monthly-activity-statement/
END:VEVENT
BEGIN:VEVENT
DTSTART;VALUE=DATE:20181121
DTEND;VALUE=DATE:20181122
DTSTAMP:20260425T122630
CREATED:20180305T113003Z
LAST-MODIFIED:20180305T113003Z
UID:759-1542758400-1542844799@agirlfriday.com.au
SUMMARY:Lodge and pay October monthly activity statement
DESCRIPTION:
URL:https://agirlfriday.com.au/event/lodge-and-pay-october-monthly-activity-statement/
END:VEVENT
BEGIN:VEVENT
DTSTART;VALUE=DATE:20181028
DTEND;VALUE=DATE:20181029
DTSTAMP:20260425T122630
CREATED:20180305T111626Z
LAST-MODIFIED:20180305T111626Z
UID:741-1540684800-1540771199@agirlfriday.com.au
SUMMARY:Superannuation Due 1 July – 30 September
DESCRIPTION:
URL:https://agirlfriday.com.au/event/superannuation-due-1-july-30-september/
END:VEVENT
BEGIN:VEVENT
DTSTART;VALUE=DATE:20181028
DTEND;VALUE=DATE:20181029
DTSTAMP:20260425T122630
CREATED:20180305T105233Z
LAST-MODIFIED:20180305T110355Z
UID:726-1540684800-1540771199@agirlfriday.com.au
SUMMARY:BAS Due - Quarter 1 (July - September)
DESCRIPTION:Quarter 1 (July – September) BAS due
URL:https://agirlfriday.com.au/event/bas-due-quarter-1-july-september/
END:VEVENT
BEGIN:VEVENT
DTSTART;VALUE=DATE:20180921
DTEND;VALUE=DATE:20180922
DTSTAMP:20260425T122630
CREATED:20180305T112825Z
LAST-MODIFIED:20180305T112825Z
UID:757-1537488000-1537574399@agirlfriday.com.au
SUMMARY:Lodge and pay August monthly activity statement
DESCRIPTION:
URL:https://agirlfriday.com.au/event/lodge-and-pay-august-monthly-activity-statement/
END:VEVENT
BEGIN:VEVENT
DTSTART;VALUE=DATE:20180821
DTEND;VALUE=DATE:20180822
DTSTAMP:20260425T122630
CREATED:20180305T112718Z
LAST-MODIFIED:20180305T112718Z
UID:755-1534809600-1534895999@agirlfriday.com.au
SUMMARY:Lodge and pay July monthly activity statement
DESCRIPTION:
URL:https://agirlfriday.com.au/event/lodge-and-pay-july-monthly-activity-statement/
END:VEVENT
BEGIN:VEVENT
DTSTART;VALUE=DATE:20180728
DTEND;VALUE=DATE:20180729
DTSTAMP:20260425T122630
CREATED:20180305T111923Z
LAST-MODIFIED:20180305T111923Z
UID:747-1532736000-1532822399@agirlfriday.com.au
SUMMARY:Superannuation Due 1 April - 30 June
DESCRIPTION:
URL:https://agirlfriday.com.au/event/superannuation-due-1-april-30-june/
END:VEVENT
BEGIN:VEVENT
DTSTART;VALUE=DATE:20180728
DTEND;VALUE=DATE:20180729
DTSTAMP:20260425T122630
CREATED:20180305T110845Z
LAST-MODIFIED:20180305T111356Z
UID:737-1532736000-1532822399@agirlfriday.com.au
SUMMARY:BAS Due - Quarter 4 (April - June)
DESCRIPTION:
URL:https://agirlfriday.com.au/event/bas-due-quarter-4-april-june/
END:VEVENT
BEGIN:VEVENT
DTSTART;VALUE=DATE:20180621
DTEND;VALUE=DATE:20180622
DTSTAMP:20260425T122630
CREATED:20180305T112556Z
LAST-MODIFIED:20180305T112556Z
UID:753-1529539200-1529625599@agirlfriday.com.au
SUMMARY:Lodge and pay May monthly activity statement
DESCRIPTION:
URL:https://agirlfriday.com.au/event/lodge-and-pay-may-monthly-activity-statement/
END:VEVENT
BEGIN:VEVENT
DTSTART;VALUE=DATE:20180528
DTEND;VALUE=DATE:20180529
DTSTAMP:20260425T122630
CREATED:20180305T114301Z
LAST-MODIFIED:20180305T114301Z
UID:766-1527465600-1527551999@agirlfriday.com.au
SUMMARY:Pay Fringe Benefits Tax annual return.
DESCRIPTION:
URL:https://agirlfriday.com.au/event/pay-fringe-benefits-tax-annual-return/
END:VEVENT
BEGIN:VEVENT
DTSTART;VALUE=DATE:20180521
DTEND;VALUE=DATE:20180522
DTSTAMP:20260425T122630
CREATED:20180305T112422Z
LAST-MODIFIED:20180305T112437Z
UID:751-1526860800-1526947199@agirlfriday.com.au
SUMMARY:Lodge and pay April monthly activity statement
DESCRIPTION:
URL:https://agirlfriday.com.au/event/lodge-and-pay-april-monthly-activity-statement/
END:VEVENT
BEGIN:VEVENT
DTSTART;VALUE=DATE:20180428
DTEND;VALUE=DATE:20180429
DTSTAMP:20260425T122630
CREATED:20180305T111818Z
LAST-MODIFIED:20180305T111818Z
UID:745-1524873600-1524959999@agirlfriday.com.au
SUMMARY:Superannuation Due 1 January - 31 March
DESCRIPTION:
URL:https://agirlfriday.com.au/event/superannuation-due-1-january-31-march/
END:VEVENT
BEGIN:VEVENT
DTSTART;VALUE=DATE:20180428
DTEND;VALUE=DATE:20180429
DTSTAMP:20260425T122630
CREATED:20180305T110656Z
LAST-MODIFIED:20180305T110656Z
UID:735-1524873600-1524959999@agirlfriday.com.au
SUMMARY:BAS Due - Quarter 3 (January - March)
DESCRIPTION:
URL:https://agirlfriday.com.au/event/bas-due-quarter-3-january-march/
END:VEVENT
BEGIN:VEVENT
DTSTART;VALUE=DATE:20180321
DTEND;VALUE=DATE:20180322
DTSTAMP:20260425T122630
CREATED:20180305T112324Z
LAST-MODIFIED:20180305T112324Z
UID:749-1521590400-1521676799@agirlfriday.com.au
SUMMARY:Lodge and pay February monthly activity statement
DESCRIPTION:
URL:https://agirlfriday.com.au/event/lodge-and-pay-february-monthly-activity-statement/
END:VEVENT
END:VCALENDAR