BEGIN:VCALENDAR
VERSION:2.0
PRODID:-//A Girl Friday - BAS Agent - ECPv6.15.16//NONSGML v1.0//EN
CALSCALE:GREGORIAN
METHOD:PUBLISH
X-ORIGINAL-URL:https://agirlfriday.com.au
X-WR-CALDESC:Events for A Girl Friday - BAS Agent
REFRESH-INTERVAL;VALUE=DURATION:PT1H
X-Robots-Tag:noindex
X-PUBLISHED-TTL:PT1H
BEGIN:VTIMEZONE
TZID:UTC
BEGIN:STANDARD
TZOFFSETFROM:+0000
TZOFFSETTO:+0000
TZNAME:UTC
DTSTART:20190101T000000
END:STANDARD
END:VTIMEZONE
BEGIN:VEVENT
DTSTART;VALUE=DATE:20200428
DTEND;VALUE=DATE:20200429
DTSTAMP:20260425T162337
CREATED:20190522T064353Z
LAST-MODIFIED:20190522T064353Z
UID:855-1588032000-1588118399@agirlfriday.com.au
SUMMARY:Lodge and pay Quarter 3\, 2019-2020 BAS
DESCRIPTION:
URL:https://agirlfriday.com.au/event/lodge-and-pay-quarter-3-2019-2020-bas/
END:VEVENT
BEGIN:VEVENT
DTSTART;VALUE=DATE:20200526
DTEND;VALUE=DATE:20200527
DTSTAMP:20260425T162337
CREATED:20190522T064456Z
LAST-MODIFIED:20190522T064456Z
UID:857-1590451200-1590537599@agirlfriday.com.au
SUMMARY:Lodge and pay Quarter 3\, 2019-2020 BAS (BAS Agent concession date)
DESCRIPTION:
URL:https://agirlfriday.com.au/event/lodge-and-pay-quarter-3-2019-2020-bas-bas-agent-concession-date/
END:VEVENT
BEGIN:VEVENT
DTSTART;VALUE=DATE:20200607
DTEND;VALUE=DATE:20200608
DTSTAMP:20260425T162337
CREATED:20200722T072309Z
LAST-MODIFIED:20200722T072309Z
UID:1288-1591488000-1591574399@agirlfriday.com.au
SUMMARY:JK fortnight #5 ends
DESCRIPTION:
URL:https://agirlfriday.com.au/event/jk-fortnight-5-ends/
END:VEVENT
BEGIN:VEVENT
DTSTART;VALUE=DATE:20200621
DTEND;VALUE=DATE:20200622
DTSTAMP:20260425T162337
CREATED:20200722T072424Z
LAST-MODIFIED:20200722T072424Z
UID:1290-1592697600-1592783999@agirlfriday.com.au
SUMMARY:JK fortnight #6 ends
DESCRIPTION:
URL:https://agirlfriday.com.au/event/jk-fortnight-6-ends/
END:VEVENT
BEGIN:VEVENT
DTSTART;VALUE=DATE:20200705
DTEND;VALUE=DATE:20200706
DTSTAMP:20260425T162337
CREATED:20200722T072521Z
LAST-MODIFIED:20200722T072521Z
UID:1292-1593907200-1593993599@agirlfriday.com.au
SUMMARY:JK fortnight #7 ends
DESCRIPTION:
URL:https://agirlfriday.com.au/event/jk-fortnight-7-ends/
END:VEVENT
BEGIN:VEVENT
DTSTART;VALUE=DATE:20200719
DTEND;VALUE=DATE:20200720
DTSTAMP:20260425T162337
CREATED:20200722T072620Z
LAST-MODIFIED:20200722T072620Z
UID:1294-1595116800-1595203199@agirlfriday.com.au
SUMMARY:JK fortnight #8 ends
DESCRIPTION:
URL:https://agirlfriday.com.au/event/jk-fortnight-8-ends/
END:VEVENT
BEGIN:VEVENT
DTSTART;VALUE=DATE:20200721
DTEND;VALUE=DATE:20200722
DTSTAMP:20260425T162337
CREATED:20200722T073544Z
LAST-MODIFIED:20200722T073544Z
UID:1306-1595289600-1595375999@agirlfriday.com.au
SUMMARY:Extension of the JobKeeper Payment program
DESCRIPTION:On 21 July\, the Government announced it is extending the JobKeeper Payment until 28 March 2021 and is targeting support to those organisations which continue to be significantly impacted by the Coronavirus. From 28 September 2020\, eligibility for the JobKeeper Payment will be based on actual turnover in the relevant periods\, the payment will be stepped down and paid at two rates. \nInformation about the operation of the existing JobKeeper Payment until 27 September 2020 is available on the ATO website.
URL:https://agirlfriday.com.au/event/extension-of-the-jobkeeper-payment-program/
END:VEVENT
BEGIN:VEVENT
DTSTART;VALUE=DATE:20200722
DTEND;VALUE=DATE:20200723
DTSTAMP:20260425T162337
CREATED:20200722T073831Z
LAST-MODIFIED:20200722T082235Z
UID:1309-1595376000-1595462399@agirlfriday.com.au
SUMMARY:Changes for child care providers
DESCRIPTION:The rule changes relating to JobKeeper payments for child care providers have now been confirmed. \nEligibility for JobKeeper payments will stop from 20 July for: \n\nemployees of an approved provider of child care services where those  employees whose ordinary duties are that they are engaged principally in the operation of the child care centre\neligible business participants where the business entity is an approved provider of a child care service.\n\nChildcare providers need to ensure that they do not claim JobKeeper for employees and eligible business participants who are no longer eligible. You will not be reimbursed for payments made after JobKeeper Fortnight 8 (6 July to 19 July). \nThe Treasury will provide more detail on the steps you need to take to stop receiving JobKeeper payments for your ineligible employees and business participants shortly.
URL:https://agirlfriday.com.au/event/changes-for-child-care-providers/
END:VEVENT
BEGIN:VEVENT
DTSTART;VALUE=DATE:20200728
DTEND;VALUE=DATE:20200729
DTSTAMP:20260425T162337
CREATED:20190522T064619Z
LAST-MODIFIED:20190522T064619Z
UID:859-1595894400-1595980799@agirlfriday.com.au
SUMMARY:Lodge and pay Q4\, 2019-2020 BAS
DESCRIPTION:
URL:https://agirlfriday.com.au/event/lodge-and-pay-q4-2019-2020-bas/
END:VEVENT
BEGIN:VEVENT
DTSTART;VALUE=DATE:20200802
DTEND;VALUE=DATE:20200803
DTSTAMP:20260425T162337
CREATED:20200722T072717Z
LAST-MODIFIED:20200722T072717Z
UID:1296-1596326400-1596412799@agirlfriday.com.au
SUMMARY:JK fortnight #9 ends
DESCRIPTION:
URL:https://agirlfriday.com.au/event/jk-fortnight-9-ends/
END:VEVENT
BEGIN:VEVENT
DTSTART;VALUE=DATE:20200816
DTEND;VALUE=DATE:20200817
DTSTAMP:20260425T162337
CREATED:20200722T072802Z
LAST-MODIFIED:20200722T072802Z
UID:1298-1597536000-1597622399@agirlfriday.com.au
SUMMARY:JK fortnight #10 ends
DESCRIPTION:
URL:https://agirlfriday.com.au/event/jk-fortnight-10-ends/
END:VEVENT
BEGIN:VEVENT
DTSTART;VALUE=DATE:20200821
DTEND;VALUE=DATE:20200822
DTSTAMP:20260425T162337
CREATED:20200722T082356Z
LAST-MODIFIED:20200722T082356Z
UID:1324-1597968000-1598054399@agirlfriday.com.au
SUMMARY:July 2020 BAS due
DESCRIPTION:Lodge and pay July 2020 monthly business activity statement
URL:https://agirlfriday.com.au/event/july-2020-bas-due/
END:VEVENT
BEGIN:VEVENT
DTSTART;VALUE=DATE:20200830
DTEND;VALUE=DATE:20200831
DTSTAMP:20260425T162337
CREATED:20200722T072845Z
LAST-MODIFIED:20200722T072845Z
UID:1300-1598745600-1598831999@agirlfriday.com.au
SUMMARY:JK fortnight #11 ends
DESCRIPTION:
URL:https://agirlfriday.com.au/event/jk-fortnight-11-ends/
END:VEVENT
BEGIN:VEVENT
DTSTART;VALUE=DATE:20200913
DTEND;VALUE=DATE:20200914
DTSTAMP:20260425T162337
CREATED:20200722T072927Z
LAST-MODIFIED:20200722T072927Z
UID:1302-1599955200-1600041599@agirlfriday.com.au
SUMMARY:JK fortnight #12 ends
DESCRIPTION:
URL:https://agirlfriday.com.au/event/jk-fortnight-12-ends/
END:VEVENT
BEGIN:VEVENT
DTSTART;VALUE=DATE:20200927
DTEND;VALUE=DATE:20200928
DTSTAMP:20260425T162337
CREATED:20200722T073011Z
LAST-MODIFIED:20200722T073011Z
UID:1304-1601164800-1601251199@agirlfriday.com.au
SUMMARY:JK fortnight #13 ends
DESCRIPTION:
URL:https://agirlfriday.com.au/event/jk-fortnight-13-ends/
END:VEVENT
BEGIN:VEVENT
DTSTART;VALUE=DATE:20210222
DTEND;VALUE=DATE:20210223
DTSTAMP:20260425T162337
CREATED:20210127T035534Z
LAST-MODIFIED:20210127T035649Z
UID:1385-1613952000-1614038399@agirlfriday.com.au
SUMMARY:Jan 2021 Monthly BAS due (if self submitting)
DESCRIPTION:monthly BAS due (if self submitting)
URL:https://agirlfriday.com.au/event/monthly-bas-due-if-self-submitting/
END:VEVENT
END:VCALENDAR