BEGIN:VCALENDAR
VERSION:2.0
PRODID:-//A Girl Friday - BAS Agent - ECPv6.15.16//NONSGML v1.0//EN
CALSCALE:GREGORIAN
METHOD:PUBLISH
X-WR-CALNAME:A Girl Friday - BAS Agent
X-ORIGINAL-URL:https://agirlfriday.com.au
X-WR-CALDESC:Events for A Girl Friday - BAS Agent
REFRESH-INTERVAL;VALUE=DURATION:PT1H
X-Robots-Tag:noindex
X-PUBLISHED-TTL:PT1H
BEGIN:VTIMEZONE
TZID:UTC
BEGIN:STANDARD
TZOFFSETFROM:+0000
TZOFFSETTO:+0000
TZNAME:UTC
DTSTART:20190101T000000
END:STANDARD
END:VTIMEZONE
BEGIN:VEVENT
DTSTART;VALUE=DATE:20200721
DTEND;VALUE=DATE:20200722
DTSTAMP:20260424T154658
CREATED:20200722T073544Z
LAST-MODIFIED:20200722T073544Z
UID:1306-1595289600-1595375999@agirlfriday.com.au
SUMMARY:Extension of the JobKeeper Payment program
DESCRIPTION:On 21 July\, the Government announced it is extending the JobKeeper Payment until 28 March 2021 and is targeting support to those organisations which continue to be significantly impacted by the Coronavirus. From 28 September 2020\, eligibility for the JobKeeper Payment will be based on actual turnover in the relevant periods\, the payment will be stepped down and paid at two rates. \nInformation about the operation of the existing JobKeeper Payment until 27 September 2020 is available on the ATO website.
URL:https://agirlfriday.com.au/event/extension-of-the-jobkeeper-payment-program/
END:VEVENT
END:VCALENDAR